BEGIN:VCALENDAR
CALSCALE:GREGORIAN
METHOD:PUBLISH
PRODID:-//github.com/ical-org/ical.net//NONSGML ical.net 4.0//EN
VERSION:2.0
X-WR-CALNAME:Irvine Spectrum Center Attractions
X-WR-TIMEZONE:America/Los_Angeles
BEGIN:VTIMEZONE
TZID:America/Los_Angeles
X-LIC-LOCATION:America/Los_Angeles
END:VTIMEZONE
BEGIN:VEVENT
CLASS:PUBLIC
CREATED:20260105T202354Z
DESCRIPTION:<p>The Ice Rink at Irvine Spectrum Center reopens for the 2026
 -2027 season. Come join in the fun!</p>
DTEND;VALUE=DATE:20261102
DTSTAMP:20260422T153600Z
DTSTART;VALUE=DATE:20261101
LOCATION:Irvine Spectrum Center
SEQUENCE:0
SUMMARY:Irvine Spectrum Center Ice Rink Reopens
UID:8a1281b1-4d38-4c9b-a581-e72888b4b8a0
END:VEVENT
END:VCALENDAR
